BEGIN:VCALENDAR
VERSION:2.0
PRODID:-//Bourne Motor Racing Club - ECPv6.15.20//NONSGML v1.0//EN
CALSCALE:GREGORIAN
METHOD:PUBLISH
X-ORIGINAL-URL:https://bournemotorracingclub.co.uk
X-WR-CALDESC:Events for Bourne Motor Racing Club
REFRESH-INTERVAL;VALUE=DURATION:PT1H
X-Robots-Tag:noindex
X-PUBLISHED-TTL:PT1H
BEGIN:VTIMEZONE
TZID:Europe/London
BEGIN:DAYLIGHT
TZOFFSETFROM:+0000
TZOFFSETTO:+0100
TZNAME:BST
DTSTART:20240331T010000
END:DAYLIGHT
BEGIN:STANDARD
TZOFFSETFROM:+0100
TZOFFSETTO:+0000
TZNAME:GMT
DTSTART:20241027T010000
END:STANDARD
BEGIN:DAYLIGHT
TZOFFSETFROM:+0000
TZOFFSETTO:+0100
TZNAME:BST
DTSTART:20250330T010000
END:DAYLIGHT
BEGIN:STANDARD
TZOFFSETFROM:+0100
TZOFFSETTO:+0000
TZNAME:GMT
DTSTART:20251026T010000
END:STANDARD
BEGIN:DAYLIGHT
TZOFFSETFROM:+0000
TZOFFSETTO:+0100
TZNAME:BST
DTSTART:20260329T010000
END:DAYLIGHT
BEGIN:STANDARD
TZOFFSETFROM:+0100
TZOFFSETTO:+0000
TZNAME:GMT
DTSTART:20261025T010000
END:STANDARD
END:VTIMEZONE
BEGIN:VEVENT
DTSTART;TZID=Europe/London:20251009T200000
DTEND;TZID=Europe/London:20251009T220000
DTSTAMP:20260421T223933
CREATED:20250327T225928Z
LAST-MODIFIED:20250923T092048Z
UID:8348-1760040000-1760047200@bournemotorracingclub.co.uk
SUMMARY:Richard Jenkins
DESCRIPTION:An evening with Richard Jenkins\, Award winning Motorsports writer \nOur speaker is Richard Jenkins: Richard is an award-winning author and motor racing historian who writes for oldracingcars.com and is known for well-researched books such as Richie Ginther: Motor Racing’s Free Thinker\, Mike Spence: Out Of The Shadows and Tyrrell: The Story Of The Tyrrell Racing Organisation. \nHis first book\, Richie Ginther\, won both the RAC Motoring Book Of The Year Award and the Guild of Motoring Writers Award. For his presentation\, Richard will give a talk on the lives of Richie Ginther and Mike Spence\, with particular emphasis on their time at BRM.
URL:https://bournemotorracingclub.co.uk/event/richard-jenkins/
LOCATION:Bourne Corn Exchange\, 3 Abbey Road\, Bourne\, Lincolnshire\, PE10 9EF\, United Kingdom
END:VEVENT
END:VCALENDAR