BEGIN:VCALENDAR
VERSION:2.0
PRODID:-//Bourne Motor Racing Club - ECPv6.15.20//NONSGML v1.0//EN
CALSCALE:GREGORIAN
METHOD:PUBLISH
X-WR-CALNAME:Bourne Motor Racing Club
X-ORIGINAL-URL:https://bournemotorracingclub.co.uk
X-WR-CALDESC:Events for Bourne Motor Racing Club
REFRESH-INTERVAL;VALUE=DURATION:PT1H
X-Robots-Tag:noindex
X-PUBLISHED-TTL:PT1H
BEGIN:VTIMEZONE
TZID:Europe/London
BEGIN:DAYLIGHT
TZOFFSETFROM:+0000
TZOFFSETTO:+0100
TZNAME:BST
DTSTART:20240331T010000
END:DAYLIGHT
BEGIN:STANDARD
TZOFFSETFROM:+0100
TZOFFSETTO:+0000
TZNAME:GMT
DTSTART:20241027T010000
END:STANDARD
BEGIN:DAYLIGHT
TZOFFSETFROM:+0000
TZOFFSETTO:+0100
TZNAME:BST
DTSTART:20250330T010000
END:DAYLIGHT
BEGIN:STANDARD
TZOFFSETFROM:+0100
TZOFFSETTO:+0000
TZNAME:GMT
DTSTART:20251026T010000
END:STANDARD
BEGIN:DAYLIGHT
TZOFFSETFROM:+0000
TZOFFSETTO:+0100
TZNAME:BST
DTSTART:20260329T010000
END:DAYLIGHT
BEGIN:STANDARD
TZOFFSETFROM:+0100
TZOFFSETTO:+0000
TZNAME:GMT
DTSTART:20261025T010000
END:STANDARD
END:VTIMEZONE
BEGIN:VEVENT
DTSTART;TZID=Europe/London:20250313T200000
DTEND;TZID=Europe/London:20250313T220000
DTSTAMP:20260422T093048
CREATED:20241003T083732Z
LAST-MODIFIED:20250202T115210Z
UID:8016-1741896000-1741903200@bournemotorracingclub.co.uk
SUMMARY:Peter Riches Ex Team Lotus\, BTCC & British F1 GP Chief Scrutineer
DESCRIPTION:Our guest is Peter Riches\, the holder of the HRH Prince Michael of Kent Award of Merit\, the highest Motorsport UK honour given in recognition of his service to motorsport. \nHis tenure associated with the British Grand Prix covers 45 years of which 35 years was as the Chief Scrutineer of the event. \nHis involvement in the sport dates back to the 1970’s with Lotus in the management of their engineering and technical development with the Car Division and the Formula 1 team. \nFrom the 1980’s his long career as a Scrutineer and FIA Technical Delegate encompassed Formula Ford\, Formula 3\, Touring Cars on an National and International level and of course Formula 1 at Silverstone. \nHe remains  actively involved in Motorsport and has just returned from Asia and Australia. \nA unique opportunity to hear of his considerable knowledge and experiences.
URL:https://bournemotorracingclub.co.uk/event/peter-riches-ex-team-lotus-btcc-british-f1-gp-chief-scrutineer/
LOCATION:Bourne Corn Exchange\, 3 Abbey Road\, Bourne\, Lincolnshire\, PE10 9EF\, United Kingdom
END:VEVENT
END:VCALENDAR