BEGIN:VCALENDAR
VERSION:2.0
PRODID:-//Bourne Motor Racing Club - ECPv6.15.20//NONSGML v1.0//EN
CALSCALE:GREGORIAN
METHOD:PUBLISH
X-WR-CALNAME:Bourne Motor Racing Club
X-ORIGINAL-URL:https://bournemotorracingclub.co.uk
X-WR-CALDESC:Events for Bourne Motor Racing Club
REFRESH-INTERVAL;VALUE=DURATION:PT1H
X-Robots-Tag:noindex
X-PUBLISHED-TTL:PT1H
BEGIN:VTIMEZONE
TZID:Europe/London
BEGIN:DAYLIGHT
TZOFFSETFROM:+0000
TZOFFSETTO:+0100
TZNAME:BST
DTSTART:20240331T010000
END:DAYLIGHT
BEGIN:STANDARD
TZOFFSETFROM:+0100
TZOFFSETTO:+0000
TZNAME:GMT
DTSTART:20241027T010000
END:STANDARD
BEGIN:DAYLIGHT
TZOFFSETFROM:+0000
TZOFFSETTO:+0100
TZNAME:BST
DTSTART:20250330T010000
END:DAYLIGHT
BEGIN:STANDARD
TZOFFSETFROM:+0100
TZOFFSETTO:+0000
TZNAME:GMT
DTSTART:20251026T010000
END:STANDARD
BEGIN:DAYLIGHT
TZOFFSETFROM:+0000
TZOFFSETTO:+0100
TZNAME:BST
DTSTART:20260329T010000
END:DAYLIGHT
BEGIN:STANDARD
TZOFFSETFROM:+0100
TZOFFSETTO:+0000
TZNAME:GMT
DTSTART:20261025T010000
END:STANDARD
END:VTIMEZONE
BEGIN:VEVENT
DTSTART;TZID=Europe/London:20250410T200000
DTEND;TZID=Europe/London:20250410T220000
DTSTAMP:20260422T072303
CREATED:20241003T084117Z
LAST-MODIFIED:20241117T135430Z
UID:8026-1744315200-1744322400@bournemotorracingclub.co.uk
SUMMARY:Richard Cross British Tractor Pulling Association
DESCRIPTION:The BTPA organises the spectacle of the best in high-powered tractor pulling events across the UK. A spectacular and often unpredictable sport with 11 different classes up to 10\,000hp+!! \nRichard Cross the clubs Vice Chairman has an extensive experience in competing and promoting the sport. His day job is a director of an agricultural dealership with 30 years in the farm machinery industry\,
URL:https://bournemotorracingclub.co.uk/event/richard-cross-british-tractor-pulling-association/
LOCATION:Bourne Corn Exchange\, 3 Abbey Road\, Bourne\, Lincolnshire\, PE10 9EF\, United Kingdom
END:VEVENT
END:VCALENDAR