BEGIN:VCALENDAR
VERSION:2.0
PRODID:-//Bourne Motor Racing Club - ECPv6.15.20//NONSGML v1.0//EN
CALSCALE:GREGORIAN
METHOD:PUBLISH
X-WR-CALNAME:Bourne Motor Racing Club
X-ORIGINAL-URL:https://bournemotorracingclub.co.uk
X-WR-CALDESC:Events for Bourne Motor Racing Club
REFRESH-INTERVAL;VALUE=DURATION:PT1H
X-Robots-Tag:noindex
X-PUBLISHED-TTL:PT1H
BEGIN:VTIMEZONE
TZID:Europe/London
BEGIN:DAYLIGHT
TZOFFSETFROM:+0000
TZOFFSETTO:+0100
TZNAME:BST
DTSTART:20240331T010000
END:DAYLIGHT
BEGIN:STANDARD
TZOFFSETFROM:+0100
TZOFFSETTO:+0000
TZNAME:GMT
DTSTART:20241027T010000
END:STANDARD
BEGIN:DAYLIGHT
TZOFFSETFROM:+0000
TZOFFSETTO:+0100
TZNAME:BST
DTSTART:20250330T010000
END:DAYLIGHT
BEGIN:STANDARD
TZOFFSETFROM:+0100
TZOFFSETTO:+0000
TZNAME:GMT
DTSTART:20251026T010000
END:STANDARD
BEGIN:DAYLIGHT
TZOFFSETFROM:+0000
TZOFFSETTO:+0100
TZNAME:BST
DTSTART:20260329T010000
END:DAYLIGHT
BEGIN:STANDARD
TZOFFSETFROM:+0100
TZOFFSETTO:+0000
TZNAME:GMT
DTSTART:20261025T010000
END:STANDARD
END:VTIMEZONE
BEGIN:VEVENT
DTSTART;TZID=Europe/London:20250612T200000
DTEND;TZID=Europe/London:20250612T220000
DTSTAMP:20260422T034627
CREATED:20241003T085016Z
LAST-MODIFIED:20250515T223559Z
UID:8031-1749758400-1749765600@bournemotorracingclub.co.uk
SUMMARY:BRM Heritage Evening    Celebrating The Life of Richard ‘Dick’ Salmon
DESCRIPTION:Celebrating The Life of Richard ‘Dick’ Salmon (1925-2025) \nFormer BRM Formula 1 Mechanic. \nBorn in Irnham\, the son of the village postmaster and his wife\, who ran the village shop\, Dick grew up with a fascination for things mechanical and left school at 14 to work in local garages. \nKeen to serve his country\, he joined the Home Guard at age 16 and received his army call-up in 1944. Service in various parts of the Middle East broadened his mind considerably\, and like many others of his generation\, he wasn’t too keen on the prospect of an ordinary office or factory job following his ‘demob’ in 1947. \nInitially\, Dick returned to working in a local garage\, but in 1950\, a friend’s tip-off about an opportunity at BRM\, led to his being one of the first people employed by Raymond Mays. \nDick immediately showed great initiative and was soon promoted to a Mechanic’s role in the Racing Team. There followed 15 years of travelling the world\, working with and for many of the greatest drivers of the era. The pinnacle of Dick’s career was undoubtedly serving as Graham Hill’s mechanic in 1962\, the year of BRM’s World Championship triumph. \nWith family responsibilities pressing\, Dick stepped back from the Formula 1 team in 1965 and later took up the offer of a job with Lotus\, testing production cars. By the early 80’s\, Dick had become a partner in a successful car restoration business\, based in Billingborough. \nFinally\, at the stage in his life where pipe and slippers would beckon most men\, Dick turned his ever-active mind to writing; producing two excellent books\, relating the intertwined stories of his own life and the rise and fall of BRM.
URL:https://bournemotorracingclub.co.uk/event/brm-heritage-evening-details-to-be-published-at-later-date/
LOCATION:Bourne Corn Exchange\, 3 Abbey Road\, Bourne\, Lincolnshire\, PE10 9EF\, United Kingdom
END:VEVENT
END:VCALENDAR