BEGIN:VCALENDAR
VERSION:2.0
PRODID:-//Bourne Motor Racing Club - ECPv6.15.20//NONSGML v1.0//EN
CALSCALE:GREGORIAN
METHOD:PUBLISH
X-ORIGINAL-URL:https://bournemotorracingclub.co.uk
X-WR-CALDESC:Events for Bourne Motor Racing Club
REFRESH-INTERVAL;VALUE=DURATION:PT1H
X-Robots-Tag:noindex
X-PUBLISHED-TTL:PT1H
BEGIN:VTIMEZONE
TZID:Europe/London
BEGIN:DAYLIGHT
TZOFFSETFROM:+0000
TZOFFSETTO:+0100
TZNAME:BST
DTSTART:20240331T010000
END:DAYLIGHT
BEGIN:STANDARD
TZOFFSETFROM:+0100
TZOFFSETTO:+0000
TZNAME:GMT
DTSTART:20241027T010000
END:STANDARD
BEGIN:DAYLIGHT
TZOFFSETFROM:+0000
TZOFFSETTO:+0100
TZNAME:BST
DTSTART:20250330T010000
END:DAYLIGHT
BEGIN:STANDARD
TZOFFSETFROM:+0100
TZOFFSETTO:+0000
TZNAME:GMT
DTSTART:20251026T010000
END:STANDARD
BEGIN:DAYLIGHT
TZOFFSETFROM:+0000
TZOFFSETTO:+0100
TZNAME:BST
DTSTART:20260329T010000
END:DAYLIGHT
BEGIN:STANDARD
TZOFFSETFROM:+0100
TZOFFSETTO:+0000
TZNAME:GMT
DTSTART:20261025T010000
END:STANDARD
END:VTIMEZONE
BEGIN:VEVENT
DTSTART;VALUE=DATE:20250809
DTEND;VALUE=DATE:20250810
DTSTAMP:20260422T002433
CREATED:20250328T214400Z
LAST-MODIFIED:20250806T154832Z
UID:8364-1754697600-1754783999@bournemotorracingclub.co.uk
SUMMARY:Lunch at BRDC Silverstone
DESCRIPTION:Our President\, Warwick Banks is hosting a lunch at the BRDC suite\, Silverstone on Saturday 9 August. \nOn track that day is the Bentley Drivers Club Summer event featuring racing with these classic English cars. \nThe costs of the two course lunch will be £40 per person and this includes admission to the circuit\, parking and use of the BRDC suite during the day. \nPlease register your interest by emailing tracknotes@bournemotorracingclub.co.uk.
URL:https://bournemotorracingclub.co.uk/event/lunch-at-brdc-silverstone/
LOCATION:Silverstone Racing Circuit\, Towcester\, Northamptonshire\, NN12 8TN\, United Kingdom
CATEGORIES:Outing
END:VEVENT
BEGIN:VEVENT
DTSTART;TZID=Europe/London:20250814T200000
DTEND;TZID=Europe/London:20250814T220000
DTSTAMP:20260422T002433
CREATED:20241005T092233Z
LAST-MODIFIED:20250807T122747Z
UID:8033-1755201600-1755208800@bournemotorracingclub.co.uk
SUMMARY:Andrew Osbourne Solo Atlantic Rower
DESCRIPTION:In 2023 Andrew Osborne rowed 3000 miles solo across the Atlantic totally unsupported\, to raise funds for cardiac risk in the young. Row for Amy\, his daughter who died aged 24\, is a charity to get young people tested or undiagnosed heat conditions. Fascination account of endurance and how to persevere under pressure.
URL:https://bournemotorracingclub.co.uk/event/andrew-osbourne-solo-atlantic-rower/
LOCATION:Bourne Corn Exchange\, 3 Abbey Road\, Bourne\, Lincolnshire\, PE10 9EF\, United Kingdom
END:VEVENT
END:VCALENDAR